{
 "serviceDescription": "serwis map topograficznych (cache)",
 "mapName": "Layers",
 "description": "",
 "copyrightText": "",
 "layers": [
  {
   "id": 0,
   "name": "mapa topograficzna 1:50000",
   "parentLayerId": -1,
   "defaultVisibility": true,
   "subLayerIds": null
  },
  {
   "id": 1,
   "name": "mapa topograficzna 1:250000",
   "parentLayerId": -1,
   "defaultVisibility": true,
   "subLayerIds": null
  },
  {
   "id": 2,
   "name": "mapa topograficzna 1:500000",
   "parentLayerId": -1,
   "defaultVisibility": true,
   "subLayerIds": null
  }
 ],
 "spatialReference": {
  "wkid": 2180
 },
 "singleFusedMapCache": true,
 "tileInfo": {
  "rows": 512,
  "cols": 512,
  "dpi": 96,
  "format": "JPEG",
  "compressionQuality": 90,
  "origin": {
   "x": -5119200,
   "y": 4695100
  },
  "spatialReference": {
   "wkid": 2180
  },
  "lods": [
   {
    "level": 0,
    "resolution": 132.2919312505292,
    "scale": 500000
   },
   {
    "level": 1,
    "resolution": 92.60435187537043,
    "scale": 350000
   },
   {
    "level": 2,
    "resolution": 66.1459656252646,
    "scale": 250000
   },
   {
    "level": 3,
    "resolution": 26.458386250105836,
    "scale": 100000
   },
   {
    "level": 4,
    "resolution": 13.229193125052918,
    "scale": 50000
   },
   {
    "level": 5,
    "resolution": 6.614596562526459,
    "scale": 25000
   },
   {
    "level": 6,
    "resolution": 2.6458386250105836,
    "scale": 10000
   }
  ]
 },
 "initialExtent": {
  "xmin": 441084.2260632395,
  "ymin": 395201.16019675,
  "xmax": 587138.2257774889,
  "ymax": 496669.20243491785,
  "spatialReference": {
   "wkid": 2180
  }
 },
 "fullExtent": {
  "xmin": 99300.55764227302,
  "ymin": 58832.313732628936,
  "xmax": 928921.8941984554,
  "ymax": 833038.0488990389,
  "spatialReference": {
   "wkid": 2180
  }
 },
 "units": "esriMeters",
 "supportedImageFormatTypes": "PNG24,PNG,JPG,DIB,TIFF,EMF,PS,PDF,GIF,SVG,SVGZ,AI",
 "documentInfo": {
  "Title": "map_topo2",
  "Author": "KKAC",
  "Comments": "",
  "Subject": "",
  "Category": "",
  "Keywords": ""
 }
}
