{
 "serviceDescription": "kompozycja mapowa jako podkład topograficzny",
 "mapName": "Layers",
 "description": "",
 "copyrightText": "",
 "layers": [
  {
   "id": 0,
   "name": "VMAP_L2",
   "parentLayerId": -1,
   "defaultVisibility": true,
   "subLayerIds": [
    1,
    2,
    3,
    4,
    5,
    6,
    7,
    8,
    9,
    10,
    11,
    12,
    13,
    14,
    15,
    16,
    17,
    18,
    19,
    20,
    21,
    22,
    23,
    24,
    25,
    26,
    27,
    28,
    29,
    30,
    31,
    32,
    33,
    34,
    35,
    36,
    37,
    38,
    39,
    40,
    41,
    42,
    43,
    44,
    45,
    46,
    47,
    48,
    49,
    50,
    51,
    52,
    53,
    54,
    55,
    56,
    57,
    58,
    59,
    60,
    61,
    62,
    63,
    64,
    65,
    66,
    67,
    68,
    69,
    70,
    71,
    72,
    73,
    74,
    75,
    76,
    77,
    78,
    79,
    80,
    81,
    82,
    83,
    84,
    85,
    86,
    87,
    88,
    89,
    90,
    91,
    92
   ]
  },
  {
   "id": 1,
   "name": "Odkrywka (pkt)",
   "parentLayerId": 0,
   "defaultVisibility": true,
   "subLayerIds": null
  },
  {
   "id": 2,
   "name": "Transformator",
   "parentLayerId": 0,
   "defaultVisibility": true,
   "subLayerIds": null
  },
  {
   "id": 3,
   "name": "Wiatrak",
   "parentLayerId": 0,
   "defaultVisibility": true,
   "subLayerIds": null
  },
  {
   "id": 4,
   "name": "Wieża telekomunikacyjna",
   "parentLayerId": 0,
   "defaultVisibility": true,
   "subLayerIds": null
  },
  {
   "id": 5,
   "name": "Latarnia",
   "parentLayerId": 0,
   "defaultVisibility": true,
   "subLayerIds": null
  },
  {
   "id": 6,
   "name": "Szyb wiertniczy",
   "parentLayerId": 0,
   "defaultVisibility": true,
   "subLayerIds": null
  },
  {
   "id": 7,
   "name": "Pomnik",
   "parentLayerId": 0,
   "defaultVisibility": true,
   "subLayerIds": null
  },
  {
   "id": 8,
   "name": "Punkt wysokościowy",
   "parentLayerId": 0,
   "defaultVisibility": true,
   "subLayerIds": null
  },
  {
   "id": 9,
   "name": "Źródło, studnia",
   "parentLayerId": 0,
   "defaultVisibility": true,
   "subLayerIds": null
  },
  {
   "id": 10,
   "name": "Głaz",
   "parentLayerId": 0,
   "defaultVisibility": true,
   "subLayerIds": null
  },
  {
   "id": 11,
   "name": "Linia brzegowa",
   "parentLayerId": 0,
   "defaultVisibility": true,
   "subLayerIds": null
  },
  {
   "id": 12,
   "name": "Umocnienia brzegowe",
   "parentLayerId": 0,
   "defaultVisibility": true,
   "subLayerIds": null
  },
  {
   "id": 13,
   "name": "Kościół",
   "parentLayerId": 0,
   "defaultVisibility": true,
   "subLayerIds": null
  },
  {
   "id": 14,
   "name": "Budynki małe",
   "parentLayerId": 0,
   "defaultVisibility": true,
   "subLayerIds": null
  },
  {
   "id": 15,
   "name": "Krzyż przydrożny",
   "parentLayerId": 0,
   "defaultVisibility": true,
   "subLayerIds": null
  },
  {
   "id": 16,
   "name": "Miejscowości",
   "parentLayerId": 0,
   "defaultVisibility": true,
   "subLayerIds": null
  },
  {
   "id": 17,
   "name": "Urwisko",
   "parentLayerId": 0,
   "defaultVisibility": true,
   "subLayerIds": null
  },
  {
   "id": 18,
   "name": "Wąwóz",
   "parentLayerId": 0,
   "defaultVisibility": true,
   "subLayerIds": null
  },
  {
   "id": 19,
   "name": "Bocznica kolejowa",
   "parentLayerId": 0,
   "defaultVisibility": true,
   "subLayerIds": null
  },
  {
   "id": 20,
   "name": "Drzewa",
   "parentLayerId": 0,
   "defaultVisibility": true,
   "subLayerIds": null
  },
  {
   "id": 21,
   "name": "Kamping",
   "parentLayerId": 0,
   "defaultVisibility": true,
   "subLayerIds": null
  },
  {
   "id": 22,
   "name": "Gołoborza, piargi",
   "parentLayerId": 0,
   "defaultVisibility": true,
   "subLayerIds": null
  },
  {
   "id": 23,
   "name": "Most, wiadukt",
   "parentLayerId": 0,
   "defaultVisibility": true,
   "subLayerIds": null
  },
  {
   "id": 24,
   "name": "Schron, bunkier",
   "parentLayerId": 0,
   "defaultVisibility": true,
   "subLayerIds": null
  },
  {
   "id": 25,
   "name": "Tor wodny",
   "parentLayerId": 0,
   "defaultVisibility": true,
   "subLayerIds": null
  },
  {
   "id": 26,
   "name": "Kolej",
   "parentLayerId": 0,
   "defaultVisibility": true,
   "subLayerIds": null
  },
  {
   "id": 27,
   "name": "Szosa, droga",
   "parentLayerId": 0,
   "defaultVisibility": true,
   "subLayerIds": null
  },
  {
   "id": 28,
   "name": "Ścieszka, szlak turystyczny",
   "parentLayerId": 0,
   "defaultVisibility": true,
   "subLayerIds": null
  },
  {
   "id": 29,
   "name": "Droga polna",
   "parentLayerId": 0,
   "defaultVisibility": true,
   "subLayerIds": null
  },
  {
   "id": 30,
   "name": "Wyciąg narciarski",
   "parentLayerId": 0,
   "defaultVisibility": true,
   "subLayerIds": null
  },
  {
   "id": 31,
   "name": "Wały",
   "parentLayerId": 0,
   "defaultVisibility": true,
   "subLayerIds": null
  },
  {
   "id": 32,
   "name": "Ogrodzenie",
   "parentLayerId": 0,
   "defaultVisibility": true,
   "subLayerIds": null
  },
  {
   "id": 33,
   "name": "Wrąb",
   "parentLayerId": 0,
   "defaultVisibility": true,
   "subLayerIds": null
  },
  {
   "id": 34,
   "name": "Dukty leśne",
   "parentLayerId": 0,
   "defaultVisibility": true,
   "subLayerIds": null
  },
  {
   "id": 35,
   "name": "Śluza",
   "parentLayerId": 0,
   "defaultVisibility": true,
   "subLayerIds": null
  },
  {
   "id": 36,
   "name": "Reda",
   "parentLayerId": 0,
   "defaultVisibility": true,
   "subLayerIds": null
  },
  {
   "id": 37,
   "name": "Zapora",
   "parentLayerId": 0,
   "defaultVisibility": true,
   "subLayerIds": null
  },
  {
   "id": 38,
   "name": "Falochron",
   "parentLayerId": 0,
   "defaultVisibility": true,
   "subLayerIds": null
  },
  {
   "id": 39,
   "name": "Przystań",
   "parentLayerId": 0,
   "defaultVisibility": true,
   "subLayerIds": null
  },
  {
   "id": 40,
   "name": "Budynki",
   "parentLayerId": 0,
   "defaultVisibility": true,
   "subLayerIds": null
  },
  {
   "id": 41,
   "name": "Ruiny",
   "parentLayerId": 0,
   "defaultVisibility": true,
   "subLayerIds": null
  },
  {
   "id": 42,
   "name": "Hałda",
   "parentLayerId": 0,
   "defaultVisibility": true,
   "subLayerIds": null
  },
  {
   "id": 43,
   "name": "Basen pływacki",
   "parentLayerId": 0,
   "defaultVisibility": true,
   "subLayerIds": null
  },
  {
   "id": 44,
   "name": "Obiekt sportowy",
   "parentLayerId": 0,
   "defaultVisibility": true,
   "subLayerIds": null
  },
  {
   "id": 45,
   "name": "Stadion",
   "parentLayerId": 0,
   "defaultVisibility": true,
   "subLayerIds": null
  },
  {
   "id": 46,
   "name": "Żywopłot",
   "parentLayerId": 0,
   "defaultVisibility": true,
   "subLayerIds": null
  },
  {
   "id": 47,
   "name": "Kanał",
   "parentLayerId": 0,
   "defaultVisibility": true,
   "subLayerIds": null
  },
  {
   "id": 48,
   "name": "Warstwica",
   "parentLayerId": 0,
   "defaultVisibility": true,
   "subLayerIds": null
  },
  {
   "id": 49,
   "name": "Suchy rów",
   "parentLayerId": 0,
   "defaultVisibility": true,
   "subLayerIds": null
  },
  {
   "id": 50,
   "name": "Wydmy",
   "parentLayerId": 0,
   "defaultVisibility": true,
   "subLayerIds": null
  },
  {
   "id": 51,
   "name": "Zagroda dla zwierząt",
   "parentLayerId": 0,
   "defaultVisibility": true,
   "subLayerIds": null
  },
  {
   "id": 52,
   "name": "Strzelnica",
   "parentLayerId": 0,
   "defaultVisibility": true,
   "subLayerIds": null
  },
  {
   "id": 53,
   "name": "Plac, skwer",
   "parentLayerId": 0,
   "defaultVisibility": true,
   "subLayerIds": null
  },
  {
   "id": 54,
   "name": "Park",
   "parentLayerId": 0,
   "defaultVisibility": true,
   "subLayerIds": null
  },
  {
   "id": 55,
   "name": "Droga kołowania",
   "parentLayerId": 0,
   "defaultVisibility": true,
   "subLayerIds": null
  },
  {
   "id": 56,
   "name": "Droga startowa",
   "parentLayerId": 0,
   "defaultVisibility": true,
   "subLayerIds": null
  },
  {
   "id": 57,
   "name": "Stacja pomp",
   "parentLayerId": 0,
   "defaultVisibility": true,
   "subLayerIds": null
  },
  {
   "id": 58,
   "name": "Stacja rozrządowa",
   "parentLayerId": 0,
   "defaultVisibility": true,
   "subLayerIds": null
  },
  {
   "id": 59,
   "name": "Bagno, trzęsawisko",
   "parentLayerId": 0,
   "defaultVisibility": true,
   "subLayerIds": null
  },
  {
   "id": 60,
   "name": "Torfowisko",
   "parentLayerId": 0,
   "defaultVisibility": true,
   "subLayerIds": null
  },
  {
   "id": 61,
   "name": "Składniki podłoża",
   "parentLayerId": 0,
   "defaultVisibility": true,
   "subLayerIds": null
  },
  {
   "id": 62,
   "name": "Jeziora",
   "parentLayerId": 0,
   "defaultVisibility": true,
   "subLayerIds": null
  },
  {
   "id": 63,
   "name": "Zbiornik zaporowy",
   "parentLayerId": 0,
   "defaultVisibility": true,
   "subLayerIds": null
  },
  {
   "id": 64,
   "name": "Rzeki",
   "parentLayerId": 0,
   "defaultVisibility": true,
   "subLayerIds": null
  },
  {
   "id": 65,
   "name": "Rzeki i strumienie",
   "parentLayerId": 0,
   "defaultVisibility": true,
   "subLayerIds": null
  },
  {
   "id": 66,
   "name": "Las",
   "parentLayerId": 0,
   "defaultVisibility": true,
   "subLayerIds": null
  },
  {
   "id": 67,
   "name": "Cmentarz",
   "parentLayerId": 0,
   "defaultVisibility": true,
   "subLayerIds": null
  },
  {
   "id": 68,
   "name": "Fortyfikacje",
   "parentLayerId": 0,
   "defaultVisibility": true,
   "subLayerIds": null
  },
  {
   "id": 69,
   "name": "Zagajniki i krzewy",
   "parentLayerId": 0,
   "defaultVisibility": true,
   "subLayerIds": null
  },
  {
   "id": 70,
   "name": "Roślinność trawiasta, łąka",
   "parentLayerId": 0,
   "defaultVisibility": true,
   "subLayerIds": null
  },
  {
   "id": 71,
   "name": "Sad",
   "parentLayerId": 0,
   "defaultVisibility": true,
   "subLayerIds": null
  },
  {
   "id": 72,
   "name": "Lotnisko",
   "parentLayerId": 0,
   "defaultVisibility": true,
   "subLayerIds": null
  },
  {
   "id": 73,
   "name": "Parking",
   "parentLayerId": 0,
   "defaultVisibility": true,
   "subLayerIds": null
  },
  {
   "id": 74,
   "name": "Magazyny",
   "parentLayerId": 0,
   "defaultVisibility": true,
   "subLayerIds": null
  },
  {
   "id": 75,
   "name": "Pole golfowe",
   "parentLayerId": 0,
   "defaultVisibility": true,
   "subLayerIds": null
  },
  {
   "id": 76,
   "name": "Kamieniołom",
   "parentLayerId": 0,
   "defaultVisibility": true,
   "subLayerIds": null
  },
  {
   "id": 77,
   "name": "Elewator zbożowy",
   "parentLayerId": 0,
   "defaultVisibility": true,
   "subLayerIds": null
  },
  {
   "id": 78,
   "name": "Staw rybny",
   "parentLayerId": 0,
   "defaultVisibility": true,
   "subLayerIds": null
  },
  {
   "id": 79,
   "name": "Podstacja elektryczna",
   "parentLayerId": 0,
   "defaultVisibility": true,
   "subLayerIds": null
  },
  {
   "id": 80,
   "name": "Zoo",
   "parentLayerId": 0,
   "defaultVisibility": true,
   "subLayerIds": null
  },
  {
   "id": 81,
   "name": "Suchy dok",
   "parentLayerId": 0,
   "defaultVisibility": true,
   "subLayerIds": null
  },
  {
   "id": 82,
   "name": "Wysypisko",
   "parentLayerId": 0,
   "defaultVisibility": true,
   "subLayerIds": null
  },
  {
   "id": 83,
   "name": "Odkrywka",
   "parentLayerId": 0,
   "defaultVisibility": true,
   "subLayerIds": null
  },
  {
   "id": 84,
   "name": "Osadnik",
   "parentLayerId": 0,
   "defaultVisibility": true,
   "subLayerIds": null
  },
  {
   "id": 85,
   "name": "Zakład przemysłowy",
   "parentLayerId": 0,
   "defaultVisibility": true,
   "subLayerIds": null
  },
  {
   "id": 86,
   "name": "Elektrownia",
   "parentLayerId": 0,
   "defaultVisibility": true,
   "subLayerIds": null
  },
  {
   "id": 87,
   "name": "Kopalnia",
   "parentLayerId": 0,
   "defaultVisibility": true,
   "subLayerIds": null
  },
  {
   "id": 88,
   "name": "Plantacja chmielu",
   "parentLayerId": 0,
   "defaultVisibility": true,
   "subLayerIds": null
  },
  {
   "id": 89,
   "name": "Tereny uprawne",
   "parentLayerId": 0,
   "defaultVisibility": true,
   "subLayerIds": null
  },
  {
   "id": 90,
   "name": "Teren zabudowany",
   "parentLayerId": 0,
   "defaultVisibility": true,
   "subLayerIds": null
  },
  {
   "id": 91,
   "name": "Wyspa",
   "parentLayerId": 0,
   "defaultVisibility": true,
   "subLayerIds": null
  },
  {
   "id": 92,
   "name": "Morze",
   "parentLayerId": 0,
   "defaultVisibility": true,
   "subLayerIds": null
  }
 ],
 "spatialReference": {
  "wkid": 2180
 },
 "singleFusedMapCache": true,
 "tileInfo": {
  "rows": 512,
  "cols": 512,
  "dpi": 96,
  "format": "PNG32",
  "compressionQuality": 0,
  "origin": {
   "x": -5119200,
   "y": 4695100
  },
  "spatialReference": {
   "wkid": 2180
  },
  "lods": [
   {
    "level": 0,
    "resolution": 6.614596562526459,
    "scale": 25000
   },
   {
    "level": 1,
    "resolution": 2.6458386250105836,
    "scale": 10000
   }
  ]
 },
 "initialExtent": {
  "xmin": 713620.3393833295,
  "ymin": 300948.0315147962,
  "xmax": 720062.9564352303,
  "ymax": 306398.459082318,
  "spatialReference": {
   "wkid": 2180
  }
 },
 "fullExtent": {
  "xmin": 126039.11952499996,
  "ymin": 98189.17069681379,
  "xmax": 925721.6157750001,
  "ymax": 807149.2291669323,
  "spatialReference": {
   "wkid": 2180
  }
 },
 "units": "esriMeters",
 "supportedImageFormatTypes": "PNG32,PNG24,PNG,JPG,DIB,TIFF,EMF,PS,PDF,GIF,SVG,SVGZ",
 "documentInfo": {
  "Title": "vmapl2",
  "Author": "mada",
  "Comments": "",
  "Subject": "",
  "Category": "",
  "Keywords": "",
  "AntialiasingMode": "Best",
  "TextAntialiasingMode": "Force"
 }
}
